BEGIN:VCALENDAR
VERSION:2.0
PRODID:-//Metro Bike Share - ECPv6.15.17//NONSGML v1.0//EN
CALSCALE:GREGORIAN
METHOD:PUBLISH
X-WR-CALNAME:Metro Bike Share
X-ORIGINAL-URL:https://bikeshare.metro.net
X-WR-CALDESC:Events for Metro Bike Share
REFRESH-INTERVAL;VALUE=DURATION:PT1H
X-Robots-Tag:noindex
X-PUBLISHED-TTL:PT1H
BEGIN:VTIMEZONE
TZID:America/Los_Angeles
BEGIN:DAYLIGHT
TZOFFSETFROM:-0800
TZOFFSETTO:-0700
TZNAME:PDT
DTSTART:20250309T100000
END:DAYLIGHT
BEGIN:STANDARD
TZOFFSETFROM:-0700
TZOFFSETTO:-0800
TZNAME:PST
DTSTART:20251102T090000
END:STANDARD
BEGIN:DAYLIGHT
TZOFFSETFROM:-0800
TZOFFSETTO:-0700
TZNAME:PDT
DTSTART:20260308T100000
END:DAYLIGHT
BEGIN:STANDARD
TZOFFSETFROM:-0700
TZOFFSETTO:-0800
TZNAME:PST
DTSTART:20261101T090000
END:STANDARD
BEGIN:DAYLIGHT
TZOFFSETFROM:-0800
TZOFFSETTO:-0700
TZNAME:PDT
DTSTART:20270314T100000
END:DAYLIGHT
BEGIN:STANDARD
TZOFFSETFROM:-0700
TZOFFSETTO:-0800
TZNAME:PST
DTSTART:20271107T090000
END:STANDARD
END:VTIMEZONE
BEGIN:VEVENT
DTSTART;TZID=America/Los_Angeles:20260418T090000
DTEND;TZID=America/Los_Angeles:20260418T130000
DTSTAMP:20260420T014325
CREATED:20260413T183311Z
LAST-MODIFIED:20260413T190006Z
UID:12443-1776502800-1776517200@bikeshare.metro.net
SUMMARY:LADOT Koreatown Pico Union Neighborhood Connect
DESCRIPTION:The City of Los Angeles is planning active transportation improvements to create a low-stress\, all-ages walking and biking route that connects Koreatown and Pico-Union as an alternative to the high-traffic Vermont Avenue. Spanning nearly two miles along streets like New Hampshire Avenue and Berendo Street\, the corridor links key destinations such as Berendo Middle School\, Loyola High School\, and Metro’s Wilshire/Vermont Station\, while addressing safety gaps by reducing vehicle speeds on local streets\, improving major crossings\, and enhancing access to schools and transit. \n  \nLADOT Koreatown Pico Union Neighborhood Connect Open House Flyer
URL:https://bikeshare.metro.net/event/ladot-koreatown-pico-union-neighborhood-connect/
LOCATION:Carecen Romero Hall\, 2845 W 7th St\, Los Angeles\, 90005\, United States
END:VEVENT
BEGIN:VEVENT
DTSTART;TZID=America/Los_Angeles:20260418T100000
DTEND;TZID=America/Los_Angeles:20260418T123000
DTSTAMP:20260420T014325
CREATED:20260413T183939Z
LAST-MODIFIED:20260413T190042Z
UID:12448-1776506400-1776515400@bikeshare.metro.net
SUMMARY:Metro Bike Share Adventure: Koreatown Park-To-Park Ride
DESCRIPTION:Join us on Metro Bike Share Bikes to connect Koreatown with the surrounding parks\, including Seoul International Park. \n\n\n\n\nIf you are bike-share-curious\, this free activity is for you and will include prizes\, giveaways\, lessons in using Metro Bike Share (MBS) and incorporating it seamlessly into your life. \nOn this ride\, we will explore the route to different community sites around Koreatown. Starting at Seoul International Park\, we will roll south towards Normandie Recreation Center\, then ride northeast towards Harold A. Henry Park and back around to Seoul International Park. This ride will be approximately 5 miles on city streets. There will be some mild hills on this route. \nWe’ll meet at Seoul International Park for a brief introduction to the Metro Bike Share System and road safety. Riders on Metro Bike Share Bikes will be provided with a helmet. Riders are welcome to join the fun on their own bikes – helmets are required. Free Metro and Walk ‘n Rollers swag included. \nNOTE: All Metro Bike Share riders must be 16 or older. The first 15 registered riders will have access to a free MBS bike and helmet. You are welcome to join the fun on your own bike if MBS bikes are sold out. \nSchedule: \n\n10:00 am Meetup at Seoul International Park – introduction to the bike share system and road safety\n10:15 am Ride begins\n12:15 pm Ride concludes at Seoul International Park\n12:15 pm – 12:30 pm Metro Bike Share Q&A\, survey\n\nRIDE INFO \nIf you would like to use a Metro Bike Share bike at no cost\, please reserve an “I need to borrow a Metro Bike” ticket when you register.You must be 16+ to ride a Metro Bike. \nStart and End: Seoul International Park; 3250 San Marino St\, Los Angeles\, CA 90006 \nLength: 5-mile round trip bike ride on semi-flat streets primarily utilizing shared bike lanes. \nExperience Level: This route is great for beginner to intermediate riders\, those who are used to biking\, and looking for different ways to explore Los Angeles. (must be able to ride 5 miles on a bicycle on rolling hills). An adult must accompany children under the age of 16 at all times. Training wheels and balance bikes are not allowed. Children in trailers/child bike seats are welcome on personal bikes. \n\n\n 
URL:https://bikeshare.metro.net/event/metro-bike-share-adventure-koreatown-park-to-park-ride/
LOCATION:Seoul International Park\, 3250 San Marino Street\, Los Angeles\, CA\, 90006\, United States
END:VEVENT
BEGIN:VEVENT
DTSTART;TZID=America/Los_Angeles:20260418T100000
DTEND;TZID=America/Los_Angeles:20260418T130000
DTSTAMP:20260420T014325
CREATED:20260401T221212Z
LAST-MODIFIED:20260401T221212Z
UID:12369-1776506400-1776517200@bikeshare.metro.net
SUMMARY:4th Annual Poetry Lives in Pico Union
DESCRIPTION:Join the fun and join us at the 4th Annual Poetry Lives in Pico Union on Saturday\, April 18 from 10am to 1pm. \nWhere there will be live poetry readings\, workshops\, food and more for all ages! Metro Bike Share will be there with printed information about our bike share and will help you get started on your first ride. \nWant to ride a Metro Bike Share to the event? There’s a station nearby! Rent or dock at James M Wood & Alverado Station.
URL:https://bikeshare.metro.net/event/4th-annual-poetry-lives-in-pico-union/
LOCATION:Pico Union Library\, 1030 S Alvarado St\, Los Angeles\, CA\, 90006\, United States
END:VEVENT
BEGIN:VEVENT
DTSTART;TZID=America/Los_Angeles:20260418T120000
DTEND;TZID=America/Los_Angeles:20260418T170000
DTSTAMP:20260420T014325
CREATED:20260401T221153Z
LAST-MODIFIED:20260401T221153Z
UID:12367-1776513600-1776531600@bikeshare.metro.net
SUMMARY:Delicious Little Tokyo
DESCRIPTION:Find us at the Delicious Little Tokyo\, in collaboration with Little Tokyo Historical Society\, on Saturday\, April 18th from 12–5 PM! \nEnjoy delicious bites while discovering how to roll sustainably. Metro Bike Share will be on-site sharing tips on the health benefits of biking and why it’s a greener way to get around. Stop by our interactive booth for a chance to win fun prizes! \nWant to keep your trip eco-friendly? Dock or rent a Metro Bike at 1st & Central Station or hop on the E Line to Little Tokyo. \nLet’s celebrate Earth Day and make a positive impact together—see you there!
URL:https://bikeshare.metro.net/event/delicious-little-tokyo/
LOCATION:1st and central\, 369 E. First Street.\, Los Angeles\, CA\, 90012\, United States
END:VEVENT
END:VCALENDAR